BEGIN:VCALENDAR
VERSION:2.0
PRODID:-//Pyramids Day Tour - ECPv6.15.20//NONSGML v1.0//EN
CALSCALE:GREGORIAN
METHOD:PUBLISH
X-WR-CALNAME:Pyramids Day Tour
X-ORIGINAL-URL:https://www.pyramidsdaytour.com
X-WR-CALDESC:Events for Pyramids Day Tour
REFRESH-INTERVAL;VALUE=DURATION:PT1H
X-Robots-Tag:noindex
X-PUBLISHED-TTL:PT1H
BEGIN:VTIMEZONE
TZID:UTC
BEGIN:STANDARD
TZOFFSETFROM:+0000
TZOFFSETTO:+0000
TZNAME:UTC
DTSTART:20240101T000000
END:STANDARD
END:VTIMEZONE
BEGIN:VEVENT
DTSTART;VALUE=DATE:20250612
DTEND;VALUE=DATE:20260619
DTSTAMP:20260423T184054
CREATED:20230111T041010Z
LAST-MODIFIED:20250524T225614Z
UID:260-1749686400-1781827199@www.pyramidsdaytour.com
SUMMARY:International Festival for Drums and Traditional Arts
DESCRIPTION:Celebrate the rhythm of the world at the International Festival for Drums and Traditional Arts in Cairo\, happening June 12–18\, 2025. This vibrant cultural celebration features musical groups and drummers from over 30 countries\, performing at iconic Cairo locations like the Citadel and Al Azhar Park. Enjoy mesmerizing parades\, colorful traditional outfits\, and hands-on workshops. Whether you’re a culture lover or just looking for unique things to do in Cairo\, this festival offers an unforgettable blend of music\, art\, and heritage.
URL:https://www.pyramidsdaytour.com/event/international-drums-festival-cairo-2025/
LOCATION:Citadel and Al Azhar Park\, Al Moez Street\, Cairo\, Egypt
CATEGORIES:Seminars
ATTACH;FMTTYPE=image/jpeg:https://www.pyramidsdaytour.com/wp-content/uploads/2023/01/events-drums.jpg
END:VEVENT
BEGIN:VEVENT
DTSTART;VALUE=DATE:20250720
DTEND;VALUE=DATE:20280702
DTSTAMP:20260423T184054
CREATED:20250720T201753Z
LAST-MODIFIED:20250720T203054Z
UID:1875-1752969600-1846108799@www.pyramidsdaytour.com
SUMMARY:Cairo Nile Maxim Dinner Cruise
DESCRIPTION:Cairo Nile Maxim Dinner Cruise – Daily at 8 PM\nExperience an unforgettable evening on the Nile with the Cairo Nile Maxim Dinner Cruise\, a nightly event that combines luxury dining\, live entertainment\, and stunning river views. Departing every evening at 8 PM from the banks of the Nile in central Cairo\, this cruise offers a perfect blend of Egyptian culture\, music\, and cuisine. \nAbout the Event\nStep aboard the Nile Maxim\, Cairo’s most prestigious dinner cruise boat\, for a scenic two-hour journey on the Nile. As the boat glides past the illuminated skyline of downtown Cairo\, you enjoy a rich buffet of traditional Egyptian dishes and international favorites. \nMoreover\, the evening includes lively entertainment. A belly dancer performs to classic Arabic music\, while a Tanoura dancer spins in vibrant traditional dress. In addition\, a live Egyptian band creates an authentic local atmosphere. \nThe Nile Maxim offers both indoor and outdoor seating. Therefore\, it suits couples\, families\, and solo travelers looking for a memorable Cairo night. Also\, the cruise departs daily at 8:00 PM\, making it easy to plan into any itinerary. \nWhat’s Included\n✓ 2-hour Nile River cruise aboard the luxurious Nile Maxim✓ Open buffet dinner with a variety of Egyptian and international cuisine✓ Live entertainment including belly dancing\, Tanoura show\, and Egyptian music✓ Air-conditioned seating with Nile views✓ Hotel pickup and drop-off \nWhat’s Not Included\n✗ Beverages (available for purchase)✗ Tips and gratuities✗ Personal expenses \nBook Your Spot\nDon’t miss one of Cairo’s most popular evening experiences. The Nile Maxim Dinner Cruise sells out quickly\, especially during high season. Reserve your seat in advance and enjoy an elegant night on the Nile. \nBook the Nile Maxim Dinner Cruise Nowor explore more Cairo night tours and Egypt private tours.
URL:https://www.pyramidsdaytour.com/event/cairo-nile-maxim-dinner-cruise/
LOCATION:Nile Maxim Cruise\, Nile Maxim Boat\, Omar Al Khayam\, Zamalek\, Cairo Governorate 11561\, Zamalek\, Cairo\, 11561\, Egypt
ATTACH;FMTTYPE=image/jpeg:https://www.pyramidsdaytour.com/wp-content/uploads/2025/07/enjoy-the-beauty-of-the.jpg
END:VEVENT
BEGIN:VEVENT
DTSTART;VALUE=DATE:20260424
DTEND;VALUE=DATE:20260426
DTSTAMP:20260423T184054
CREATED:20260422T145023Z
LAST-MODIFIED:20260422T145935Z
UID:2213-1776988800-1777161599@www.pyramidsdaytour.com
SUMMARY:Zamna Festival at the Pyramids of Giza 2026 – Official Travel & Tickets
DESCRIPTION:Experience the World’s Most Iconic Electronic Music Festival in Egypt\nLimited 2026 Edition | April 24–25\, 2026 | Cairo\, Egypt\nExperience one of the most anticipated global music events of the year as the legendary Zamna Festival returns to the breathtaking Pyramids of Giza for an unforgettable desert rave experience. \nSet under the stars of the Sahara\, this unique edition transforms the ancient plateau into a world-class open-air electronic music arena featuring international DJs\, immersive production\, and cinematic stage design. \nZamna Festival Egypt 2026 Dates & Time\nBased on official event listings\, the festival is confirmed to take place: \n\n📆 Dates: April 24 – April 25\, 2026\n🕕 Time: 6:00 PM – 3:00 AM\n📍 Location: Giza Plateau\, Pyramids of Giza\, Cairo\, Egypt\n🔞 Age Restriction: 21+\n\nAbout Zamna Festival\nOriginating from Tulum\, Mexico\, Zamna is globally recognized for its immersive jungle-inspired electronic music experiences. \nNow expanding worldwide\, Zamna brings its signature atmosphere to Egypt\, combining: \n\nDeep house\, techno & melodic performances\nMassive desert stage production\nLight & laser immersive shows\nWorld-famous DJ lineups\nLuxury VIP experiences\n\nWhy the Pyramids of Giza?\nThere is no festival location in the world like this. \nThe event takes place at one of the Seven Wonders of the Ancient World\, where: \n\nAncient history meets modern music culture\nThe pyramids become a natural stage backdrop\nThe desert transforms into a global dancefloor\n\nTickets for Zamna Festival Egypt 2026\nPyramids Day Tour is an official travel & ticket assistance provider for Zamna Festival experiences. \nWe help you with: \n\n🎫 General Admission & VIP tickets (subject to availability)\n🚐 Private transportation from Cairo & Giza hotels\n🏨 Full travel packages (on request)\n🎧 Festival entry coordination & support\n🧭 VIP assistance for smooth access\n\n⚠️ Tickets are limited and officially sold out quickly every year due to high global demand. \nTransportation Packages (Recommended)\nAvoid stress and enjoy a smooth experience: \n\nPrivate AC vehicles (hotel pick-up & drop-off)\nRound-trip transfers to the pyramids\nDedicated festival coordination team\nFlexible timing for groups & VIP guests\n\nWhy Book with Pyramids Day Tour?\n✔ Trusted Egypt-based tour operator✔ Fast response & WhatsApp support✔ Local expertise in Cairo events & logistics✔ Safe & reliable transport solutions✔ Festival + travel coordination under one booking
URL:https://www.pyramidsdaytour.com/event/zamna-festival-at-the-pyramids-of-giza-2026-official-travel-tickets/
LOCATION:Giza Platue\, 10 Abou Al Hool Al Seiahi\, Giza\, 3512201\, Egypt
ATTACH;FMTTYPE=image/jpeg:https://www.pyramidsdaytour.com/wp-content/uploads/2026/04/20250426_Zamna_Egypt_day_2_pablopereyra_11801423-fotor-2025051514758.jpg
END:VEVENT
END:VCALENDAR